BEGIN:VCALENDAR
VERSION:2.0
PRODID:-//Sprinkler Saves - ECPv6.11.2//NONSGML v1.0//EN
CALSCALE:GREGORIAN
METHOD:PUBLISH
X-WR-CALNAME:Sprinkler Saves
X-ORIGINAL-URL:https://www.sprinklersaves.co.uk
X-WR-CALDESC:Events for Sprinkler Saves
REFRESH-INTERVAL;VALUE=DURATION:PT1H
X-Robots-Tag:noindex
X-PUBLISHED-TTL:PT1H
BEGIN:VTIMEZONE
TZID:Europe/London
BEGIN:DAYLIGHT
TZOFFSETFROM:+0000
TZOFFSETTO:+0100
TZNAME:BST
DTSTART:20200329T010000
END:DAYLIGHT
BEGIN:STANDARD
TZOFFSETFROM:+0100
TZOFFSETTO:+0000
TZNAME:GMT
DTSTART:20201025T010000
END:STANDARD
BEGIN:DAYLIGHT
TZOFFSETFROM:+0000
TZOFFSETTO:+0100
TZNAME:BST
DTSTART:20210328T010000
END:DAYLIGHT
BEGIN:STANDARD
TZOFFSETFROM:+0100
TZOFFSETTO:+0000
TZNAME:GMT
DTSTART:20211031T010000
END:STANDARD
END:VTIMEZONE
BEGIN:VEVENT
DTSTART;TZID=Europe/London:20210507T130200
DTEND;TZID=Europe/London:20210507T160000
DTSTAMP:20260420T055858
CREATED:20210610T174306Z
LAST-MODIFIED:20210613T175807Z
UID:10000239-1620392520-1620403200@www.sprinklersaves.co.uk
SUMMARY:Manchester Waste Site Collection and Recycling Centre
DESCRIPTION:On the 7th May 2021 at 13:02 hours\, 3 pumping appliances from Greater Manchester Fire & Rescue Service (GMFRS)were mobilised to a fire at the Biffa Waste Services Ltd waste collection and recycling centre on the Northbank Industrial Estate\, Irlam \nOn their arrival it was established that a dry pipe sprinkler system had operated in the warehouse loading bay activating 20 heads\, suppressing the fire located in the warehouse loading bay before the arrival of operational crews. \nHaving this type of automatic fire suppression system installed brings with it a number of benefits for your business:\n1.They’re fast-acting\, suppressing the fire\, keeping the fire under control before major damage is caused to buildings and equipment.\n2.Minimises financial losses incurred from having to replace damaged goods\, plant and machinery\n3.Reduces the time you need to close following the fires \nOn this occasion\, business interruption minimised to 3 hours\, reducing potential losses of £40\,000-£50\,000 to £3\,000. The cause of the fire\, lithium battery igniting waste\, affecting approximately 5\,000m2. \nUK fire and rescue services attend around 300 significant fires in waste sites each year. Fires in waste sites are often difficult to extinguish\, needing a lot of resources for long periods\, and can have serious effects on public health\, the environment\, safety to firefighters and local communities. \nKris Egerton\, Operations Supervisor at Biffa\, said: “We are grateful that the timely action of the sprinkler system helped stop the spread of the fire that broke out at our site in Gilchrist Road and enabled firefighters to bring it under control quickly. As a result\, we were able to minimise damage and resume operations swiftly. The sprinkler system adds an extra layer of protection\, reducing the risk of injury and ensuring our people and the public are safe.” \nGMFRS have uploaded to You Tube digital content featuring the manager of the Biffa waste recycling manager sharing their experiences and knowledge to encourage others to consider having sprinklers installed. Debunking the myths surrounding sprinklers. \n 
URL:https://www.sprinklersaves.co.uk/saves/manchester-waste-site-collection-and-recycling-centre/
CATEGORIES:Industrial
END:VEVENT
BEGIN:VEVENT
DTSTART;TZID=Europe/London:20210409T221700
DTEND;TZID=Europe/London:20210409T221700
DTSTAMP:20260420T055858
CREATED:20210624T213440Z
LAST-MODIFIED:20210628T143923Z
UID:10000242-1618006620-1618006620@www.sprinklersaves.co.uk
SUMMARY:Sprinkler Save\, Southend On Sea Flat Fire
DESCRIPTION:Photograph speaks a thousand words\, the benefits of sprinklers can clearly be seen in this hostel fire. One side wall sprinkler head activated suppressing/extinguishing the fire prior to Essex fire & rescue service attending this residential incident. \nThe sprinklers were installed as part of Essex fire & rescue Service match funding programme* \nTime of incident 10:17  and was limited to the room of origin\, without the residential sprinkler system the outcome could off been so much different for the resident. \n* Essex  Fire and Rescue Service have been leading from the front contributing funding for the installation of sprinkler systems throughout seven housing estates in Basildon. \nSince 2013\, the fire service has part-funded and supported the retrofitting of sprinklers in a number of high risk premises in Essex. \nThe latest match-funding project has been agreed for sprinklers to be installed at all properties in the seven housing estates in the Felmores area of Basildon. \nBasildon Council have been awarded £70\,000 from the fire service’s sprinkler fund to match-fund their projects.
URL:https://www.sprinklersaves.co.uk/saves/sprinkler-save-southend-on-sea-flat-fire/
CATEGORIES:Residential
END:VEVENT
BEGIN:VEVENT
DTSTART;VALUE=DATE:20201012
DTEND;VALUE=DATE:20201013
DTSTAMP:20260420T055858
CREATED:20210511T181645Z
LAST-MODIFIED:20210521T142757Z
UID:10000310-1602460800-1602547199@www.sprinklersaves.co.uk
SUMMARY:Business premises\, East Sussex
DESCRIPTION:East Sussex Fire & Rescue Service has praised a business in Hastings for installing the sprinklers system\, which stopped a small fire quickly spreading throughout the building. \nUpon arrival\, crews found a small fire located in the fan unit\, which had been quickly extinguished by the sprinkler system. \nAndrew Gausden\, Business Safety Manager said: “This is a timely reminder to other companies to invest in a sprinkler system which could protect your business from severe fire damage.A sprinkler system really can make a difference\, in 2019 we attended a similar fire locally which resulted in the total loss of a business – sprinklers would have made the difference. \n“Sprinkler systems are designed to contain a fire ensuring businesses are often up and running within a short period of time due to limited damage.”
URL:https://www.sprinklersaves.co.uk/saves/business-premises-east-sussex/
LOCATION:Hastings\, Hastings\, United Kingdom
CATEGORIES:Commercial
END:VEVENT
BEGIN:VEVENT
DTSTART;VALUE=DATE:20200723
DTEND;VALUE=DATE:20200724
DTSTAMP:20260420T055858
CREATED:20210511T183019Z
LAST-MODIFIED:20210511T183019Z
UID:10000311-1595462400-1595548799@www.sprinklersaves.co.uk
SUMMARY:Sheltered housing\, London
DESCRIPTION:On 21st July a call was received by BAFSA member Triangle advising the company of a fire in a flat on the 4th floor at 1-133 Garnet Road\, Thornton Heath. The call was a result of the sprinkler alarm signalling the call centre. \nThis is sheltered housing and Triangle had retrospectively installed a BS9251 sprinkler system supplied by a tank and pump which was commissioned in December 2019. \nLondon Fire Brigade attended and forced entry to learn the fire had been extinguished by the activation of one sprinkler head. \nIt appears the resident was using a bedroom as a prayer room and had left the property leaving a lot of incense candles burning\, it is assumed that these were the source of ignition but it is unclear what the item first ignited was. \nTriangle engineer attended site and the sprinkler head was reinstated and the system made live by 1700 hrs. \nBAFSA notes that a second sprinkler head in the hallway had got hot enough for the cover plate to drop off but not to activate the head… a perfect example of how accurate sprinklers are. They really do not go off all at once!
URL:https://www.sprinklersaves.co.uk/saves/sheltered-housing-london/
LOCATION:London
CATEGORIES:Residential
END:VEVENT
BEGIN:VEVENT
DTSTART;VALUE=DATE:20200706
DTEND;VALUE=DATE:20200707
DTSTAMP:20260420T055858
CREATED:20210511T190903Z
LAST-MODIFIED:20210511T190903Z
UID:10000312-1593993600-1594079999@www.sprinklersaves.co.uk
SUMMARY:Flat\, Southampton
DESCRIPTION:Afire broke out in the kitchen in a high-rise block owned by Southampton City Council on 3rd July. It was successfully suppressed by the sprinkler system with minimal damage. The Fire & Rescue Service attended with multiple units but had little to do but check that the fire was fully extinguished. \nWithout the sprinkler activation the fire would have engulfed the whole flat before the Fire & Rescue Service arrived on the scene. \nThe flat\, along with the others in the block\, and all other blocks in the city\, has benefitted from a range of fire safety works in addition to the sprinkler system. Southampton City Council take resident safety seriously and the 3 high-rise fires over the last 12 months effectively controlled by the sprinkler system and other fire safety measures are a testament to this.
URL:https://www.sprinklersaves.co.uk/saves/flat-southampton/
LOCATION:Southampton
CATEGORIES:Residential
END:VEVENT
BEGIN:VEVENT
DTSTART;VALUE=DATE:20200624
DTEND;VALUE=DATE:20200625
DTSTAMP:20260420T055858
CREATED:20210515T170538Z
LAST-MODIFIED:20210515T170611Z
UID:10000313-1592956800-1593043199@www.sprinklersaves.co.uk
SUMMARY:Flat\, Cardiff
DESCRIPTION:On 24th June\, BAFSA member RSP Sprinklers Wales received a call out to small block of flats in Cardiff where their sprinkler system successfully extinguished a fire. \nThe call was received at 1542; their engineer arrived on site at 1626  and had the block fully protected again at 1654. \nThe fire had started on an external balcony\, igniting a gas canister which exploded and set off the sprinkler inside the flat. The sprinkler successfully extinguished the fire both inside the flat and out on the balcony where the flames were within reach of the sprinkler spray pattern.
URL:https://www.sprinklersaves.co.uk/saves/flat-cardiff/
LOCATION:Cardiff\, Cardiff\, United Kingdom
CATEGORIES:Residential
END:VEVENT
BEGIN:VEVENT
DTSTART;VALUE=DATE:20200522
DTEND;VALUE=DATE:20200523
DTSTAMP:20260420T055858
CREATED:20210515T170806Z
LAST-MODIFIED:20210515T171235Z
UID:10000314-1590105600-1590191999@www.sprinklersaves.co.uk
SUMMARY:Flat\, Stoke on Trent
DESCRIPTION:Fire crews with an aerial ladder were to a kitchen fire on the eighth floor of the city centre Lindop Court tower block in Stoke on Trent on 22nd  May. \nA total of five crews  attended from Longton\, Hanley and Newcastle but the fire\, believed to be started in a chip pan\,  had already been put out by a sprinkler system when firefighters arrived at the scene. \n1 concealed sidewall sprinkler had activated. The building had been retrofitted and has a BS 9251 tank and pump system. \nThere were no casualties.
URL:https://www.sprinklersaves.co.uk/saves/flat-stoke-on-trent/
LOCATION:Stoke-on-Trent\, Stoke-on-Trent\, United Kingdom
CATEGORIES:Residential
END:VEVENT
BEGIN:VEVENT
DTSTART;VALUE=DATE:20200402
DTEND;VALUE=DATE:20200403
DTSTAMP:20260420T055858
CREATED:20210515T170943Z
LAST-MODIFIED:20210515T170943Z
UID:10000315-1585785600-1585871999@www.sprinklersaves.co.uk
SUMMARY:2 Sprinkler Saves in kitchens in London
DESCRIPTION:Burnt cooking in the kitchen of a residential block of flats of three floors in Waddon Court Road\, was the cause of a fire which\, from the limited information provided\, was controlled by a Personal Protection system. The fire was all out on arrival with no firefighting action completed by crews\nLocal enquiries are currently being completed by the local fire safety team \n1 sprinkler head actuated in the kitchen of a 5 roomed flat on the 11th floor of a 21 storey block of flats in Lanterns Way. LFB reported that the fire was out on arrival.
URL:https://www.sprinklersaves.co.uk/saves/2-sprinkler-saves-in-kitchens-in-london/
LOCATION:London
CATEGORIES:Residential
END:VEVENT
BEGIN:VEVENT
DTSTART;VALUE=DATE:20200312
DTEND;VALUE=DATE:20200313
DTSTAMP:20260420T055858
CREATED:20210515T172724Z
LAST-MODIFIED:20210515T172724Z
UID:10000237-1583971200-1584057599@www.sprinklersaves.co.uk
SUMMARY:Flat\, London
DESCRIPTION:On 12 March \, LFB crews were called to a rapidly developing fire on the sixth floor external balcony of Tweed Walk Tower Hamlets – a twelve storey apartment block.\nThe fire spread horizontally along the balcony from the seat of the fire affecting the balcony of the adjacent dwelling. Due to the intensity of the fire the patio doors/glazing located adjacent to the seat of the fire failed.\nThe prompt activation of the Automatic Fire Suppression System (AFSS)restricted the fire damage to the glazing units/frames with smoke logging confined to the ceiling level of the apartment . The external fire was extinguished using a ground monitor and jets.\nOver recent years the LFB Fire Investigation Team have attended a large number of incidents where fires have occurred on balconies. The cause of those fires has often been due to unsafe disposal of cigarettes by the resident which is the case for the above mentioned incident.\nWithout AFSS the outcome of this incident may well have been more serious with the potential for a full compartment fire which would have seriously compromised the safety of residents and firefighters. Personal contents in the apartments were virtually untouched by the fire\, and no fire related injuries were reported.
URL:https://www.sprinklersaves.co.uk/saves/flat-london-2/
LOCATION:London
CATEGORIES:Residential
END:VEVENT
BEGIN:VEVENT
DTSTART;VALUE=DATE:20200308
DTEND;VALUE=DATE:20200309
DTSTAMP:20260420T055858
CREATED:20210515T171110Z
LAST-MODIFIED:20210515T171110Z
UID:10000236-1583625600-1583711999@www.sprinklersaves.co.uk
SUMMARY:Flat\, London
DESCRIPTION:On the 8th March\, crews were called to a 5 pump fire on the 25th floor of a 4 roomed flat of a 39 storey high rise residential block in Southwark Bridge Road. \nThe alarm was raised by the occupier to a kitchen fire\, one sprinkler head activated and extinguished the fire prior to the arrivals of crews. \nWithout AFSS the outcome of this incident may well have been more serious with the potential for a full compartment fire which would have seriously compromised the safety of residents and firefighters. no fire related injuries were reported. \nOn this occasion due to the height/design of the building a BS EN 12845 system was installed allowing extra resilience to be provided for the installation\, it should be noted a BS9251 :2014 system is installed for buildings up to 45m in height unless agreed with Authorities Having Jurisdiction.
URL:https://www.sprinklersaves.co.uk/saves/flat-london/
LOCATION:London
CATEGORIES:Residential
END:VEVENT
END:VCALENDAR